BEGIN:VCALENDAR
VERSION:2.0
PRODID:-//Feuerwehr Oberstaufen - ECPv5.3.2.1//NONSGML v1.0//EN
CALSCALE:GREGORIAN
METHOD:PUBLISH
X-WR-CALNAME:Feuerwehr Oberstaufen
X-ORIGINAL-URL:https://www.feuerwehr-oberstaufen.de
X-WR-CALDESC:Veranstaltungen für Feuerwehr Oberstaufen
BEGIN:VTIMEZONE
TZID:Europe/Paris
BEGIN:DAYLIGHT
TZOFFSETFROM:+0100
TZOFFSETTO:+0200
TZNAME:CEST
DTSTART:20210328T010000
END:DAYLIGHT
BEGIN:STANDARD
TZOFFSETFROM:+0200
TZOFFSETTO:+0100
TZNAME:CET
DTSTART:20211031T010000
END:STANDARD
END:VTIMEZONE
BEGIN:VEVENT
DTSTART;TZID=Europe/Paris:20210113T200000
DTEND;TZID=Europe/Paris:20210113T220000
DTSTAMP:20260422T191246
CREATED:20210102T094752Z
LAST-MODIFIED:20210102T102744Z
UID:4165-1610568000-1610575200@www.feuerwehr-oberstaufen.de
SUMMARY:Unfallverhütungsvorschriften (Gruppenausbildung)
DESCRIPTION:
URL:https://www.feuerwehr-oberstaufen.de/termin/unfallverhuetungsvorschriften-gruppenausbildung/
LOCATION:Feuerwehrhaus Oberstaufen\, Lindauer Straße 23\, Oberstaufen\, 87534\, Deutschland
CATEGORIES:Gruppe 3,Gruppenübung
END:VEVENT
END:VCALENDAR