BEGIN:VCALENDAR
VERSION:2.0
PRODID:-//Feuerwehr Oberstaufen - ECPv5.3.2.1//NONSGML v1.0//EN
CALSCALE:GREGORIAN
METHOD:PUBLISH
X-WR-CALNAME:Feuerwehr Oberstaufen
X-ORIGINAL-URL:https://www.feuerwehr-oberstaufen.de
X-WR-CALDESC:Veranstaltungen für Feuerwehr Oberstaufen
BEGIN:VTIMEZONE
TZID:Europe/Helsinki
BEGIN:DAYLIGHT
TZOFFSETFROM:+0200
TZOFFSETTO:+0300
TZNAME:EEST
DTSTART:20210328T010000
END:DAYLIGHT
BEGIN:STANDARD
TZOFFSETFROM:+0300
TZOFFSETTO:+0200
TZNAME:EET
DTSTART:20211031T010000
END:STANDARD
END:VTIMEZONE
BEGIN:VEVENT
DTSTART;TZID=Europe/Helsinki:20210222T190000
DTEND;TZID=Europe/Helsinki:20210222T200000
DTSTAMP:20260422T172943
CREATED:20191215T123539Z
LAST-MODIFIED:20210210T080616Z
UID:3789-1614020400-1614024000@www.feuerwehr-oberstaufen.de
SUMMARY:Jugendübung Online
DESCRIPTION:
URL:https://www.feuerwehr-oberstaufen.de/termin/jugenduebung-65/
LOCATION:von Daheim\, Oberstaufen\, 87534\, Deutschland
CATEGORIES:Jugendübung
END:VEVENT
END:VCALENDAR