BEGIN:VCALENDAR
VERSION:2.0
PRODID:-//Feuerwehr Oberstaufen - ECPv5.3.2.1//NONSGML v1.0//EN
CALSCALE:GREGORIAN
METHOD:PUBLISH
X-WR-CALNAME:Feuerwehr Oberstaufen
X-ORIGINAL-URL:https://www.feuerwehr-oberstaufen.de
X-WR-CALDESC:Veranstaltungen für Feuerwehr Oberstaufen
BEGIN:VTIMEZONE
TZID:Europe/Helsinki
BEGIN:DAYLIGHT
TZOFFSETFROM:+0200
TZOFFSETTO:+0300
TZNAME:EEST
DTSTART:20200329T010000
END:DAYLIGHT
BEGIN:STANDARD
TZOFFSETFROM:+0300
TZOFFSETTO:+0200
TZNAME:EET
DTSTART:20201025T010000
END:STANDARD
END:VTIMEZONE
BEGIN:VEVENT
DTSTART;TZID=Europe/Helsinki:20201214T190000
DTEND;TZID=Europe/Helsinki:20201214T210000
DTSTAMP:20260423T000713
CREATED:20191215T123656Z
LAST-MODIFIED:20191215T123656Z
UID:3791-1607972400-1607979600@www.feuerwehr-oberstaufen.de
SUMMARY:Jugend Nikolausübung/Jahresabschluss
DESCRIPTION:
URL:https://www.feuerwehr-oberstaufen.de/termin/jugend-nikolausuebung-jahresabschluss-3/
LOCATION:Florianstüble\, Lindauer Straße 23\, Oberstaufen\, 87534\, Deutschland
CATEGORIES:Jugendübung
END:VEVENT
END:VCALENDAR